BEGIN:VCALENDAR
VERSION:2.0
PRODID:-//Asset Management Academy - ECPv6.15.17.1//NONSGML v1.0//EN
CALSCALE:GREGORIAN
METHOD:PUBLISH
X-ORIGINAL-URL:https://www.assetmanagementacademy.com/es/
X-WR-CALDESC:Eventos para Asset Management Academy
REFRESH-INTERVAL;VALUE=DURATION:PT1H
X-Robots-Tag:noindex
X-PUBLISHED-TTL:PT1H
BEGIN:VTIMEZONE
TZID:Europe/London
BEGIN:DAYLIGHT
TZOFFSETFROM:+0000
TZOFFSETTO:+0100
TZNAME:BST
DTSTART:20250330T010000
END:DAYLIGHT
BEGIN:STANDARD
TZOFFSETFROM:+0100
TZOFFSETTO:+0000
TZNAME:GMT
DTSTART:20251026T010000
END:STANDARD
BEGIN:DAYLIGHT
TZOFFSETFROM:+0000
TZOFFSETTO:+0100
TZNAME:BST
DTSTART:20260329T010000
END:DAYLIGHT
BEGIN:STANDARD
TZOFFSETFROM:+0100
TZOFFSETTO:+0000
TZNAME:GMT
DTSTART:20261025T010000
END:STANDARD
BEGIN:DAYLIGHT
TZOFFSETFROM:+0000
TZOFFSETTO:+0100
TZNAME:BST
DTSTART:20270328T010000
END:DAYLIGHT
BEGIN:STANDARD
TZOFFSETFROM:+0100
TZOFFSETTO:+0000
TZNAME:GMT
DTSTART:20271031T010000
END:STANDARD
END:VTIMEZONE
BEGIN:VEVENT
DTSTART;TZID=Europe/London:20260616T130000
DTEND;TZID=Europe/London:20260616T160000
DTSTAMP:20260424T101758
CREATED:20260421T162032Z
LAST-MODIFIED:20260421T163313Z
UID:10000314-1781614800-1781625600@www.assetmanagementacademy.com
SUMMARY:Asset City Game\, London - June 2026
DESCRIPTION:A practical\, interactive Asset Management simulation game designed to build capability through real-world decision-making. \n\n\n\nDelivered as a focused 3‑hour (half‑day) session\, in the format of an engaging board game\, ‘Asset City’ provides a structured yet enjoyable asset management challenge that enables participants to embed what they have learned by applying core asset management principles to realistic\, scenario‑based situations. \n\n\n\nBy working in teams\, participants make decisions across the asset lifecycle\, balancing value\, risk\, cost and performance in a safe\, professionally facilitated environment that reflects the real‑world pressures faced by asset‑intensive organizations and aligns with best practice promoted by the Institute of Asset Management. \n\n\n\n\nFIND OUT MORE\n\n\n\n\n\n\n\nIf purchasing the June IAM Certificate: Get the Asset City Game for just £150\n\n\n\nIf purchasing June IAM Diploma Course: Get the Asset City Game for free\n\n\n\nOption to purchase June IAM Certificate for just £700 when you purchase Asset City Game\n\n\n\n\n \n\n\n\nContact us if you would like to take advantage of one of the above offers.
URL:https://www.assetmanagementacademy.com/es/event/asset-city-game-london-june-2026/
LOCATION:Leonardo Royal Hotel\, London Tower Bridge\, 45 Prescot Street\, London\, E1 8GP\, United Kingdom
ATTACH;FMTTYPE=image/jpeg:https://www.assetmanagementacademy.com/wp-content/uploads/sites/6/2026/03/Asset-City-Asset-Management-Game.jpg
END:VEVENT
END:VCALENDAR